BEGIN:VCALENDAR
VERSION:2.0
PRODID:DPCALENDAR
CALSCALE:GREGORIAN
X-WR-TIMEZONE:UTC
BEGIN:VEVENT
DTSTART;TZID=UTC:20230629T170000
DTEND;TZID=UTC:20230629T180000
UID:DFF84D32-7047-42CD-9EE6-A0148A17FCE4
SUMMARY:OSM Semi-Annual Members Meeting
CREATED:20230619T124503Z
DTSTAMP:20230619T124503Z
URL:https://community.joomla.org/user-groups.html?view=event&id=541&calid=131
DESCRIPTION: \NTo all the Members of Open Source Matters, Inc.\NIt is with great pleasure that I invite you to attend the Semi-Annual Members Meeting of Open Source Matters, Inc. on Thursday, June 29, 2023.\NThere will be three sessions, to allow a greater degree of participation throughout the different timezones.\N\NQuestion collection session at 1:00 UTC\NQuestion collection session at 9:00 UTC\NRegular session at 17:00 UTC\N\NPlanned meeting time is 1 hour for each session.\NIf not done yet, you will be added by your Team Leader to the dedicated channel on Mattermost a few hours before the meeting.The Agenda of the Semi-Annual Meeting will be shared in the Mattermost channel prior to the meeting day as well as the instructions on how to attend the call.\NThe Semi-Annual Meeting will occur twice per year and is a time to review the status of the organisation with Community members.It is also the perfect opportunity to present plans for the near future and to have direct communication with the Board of Directors and Officers that you elected.This meeting is called pursuant Section 4.06(C) of the Bylaws of the Corporation.\NMembers of Open Source Matters (Class 1, 2 and 3) as of June 01, 2022 will be entitled to attend this meeting.\NPlease mark your calendar and ensure your presence, to make this an important day for the future Joomla and Open Source Matters Inc.\NThank you\NKind regards,\NLuca MarzoSecretaryOpen Source Matters, Inc.On behalf of the Full Board of Directors and Officers of Open Source Matters, Inc.
X-ALT-DESC;FMTTYPE=text/html:<div>&nbsp;</div><p><em>To all the Members of Open Source Matters, Inc.</em></p><p>It is with great pleasure that I invite you to attend the&nbsp;<strong>Semi-Annual Members Meeting of Open Source Matters, Inc.</strong>&nbsp;on Thursday,<strong>&nbsp;June 29, 2023.</strong></p><p>There will be three sessions, to allow a greater degree of participation throughout the different timezones.</p><ul><li>Question collection session at&nbsp;<strong>1:00 UTC</strong></li><li>Question collection session at&nbsp;<strong>9:00 UTC</strong></li><li>Regular session at&nbsp;<strong>17:00 UTC</strong></li></ul><p dir="ltr">Planned meeting time is 1 hour for each session.</p><p>If not done yet, you will be added by your Team Leader to the dedicated channel on Mattermost a few hours before the meeting.<br />The Agenda of the Semi-Annual Meeting will be shared in the Mattermost channel prior to the meeting day as well as the instructions on how to attend the call.</p><p>The Semi-Annual Meeting will occur twice per year and is a time to review the status of the organisation with Community members.<br />It is also the perfect opportunity to present plans for the near future and to have direct communication with the Board of Directors and Officers that you elected.<br />This meeting is called pursuant Section 4.06(C) of the Bylaws of the Corporation.</p><p>Members of Open Source Matters (Class 1, 2 and 3) as of June 01, 2022 will be entitled to attend this meeting.</p><p>Please mark your calendar and ensure your presence, to make this an important day for the future Joomla and Open Source Matters Inc.</p><p>Thank you</p><p>Kind regards,</p><p>Luca Marzo<br /><em>Secretary</em><br />Open Source Matters, Inc.<br /><em>On behalf of the Full Board of Directors and Officers of Open Source Matters, Inc.</em></p>
LAST-MODIFIED:20230619T124833Z
SEQUENCE:210
X-ACCESS:1
X-HITS:608
X-COLOR:3366cc
X-IMAGE-FULL:https://community.joomla.org/images/event-resources/osm-semiannual-meeting.png
X-IMAGE-FULL-ALT:OSM Semi-Annual Member Meeting June 29 2023
X-IMAGE-INTRO:https://community.joomla.org/images/event-resources/osm-semiannual-meeting.png
X-IMAGE-INTRO-ALT:OSM Semi-Annual Member Meeting June 29 2023
X-SHOW-END-TIME:0
END:VEVENT
BEGIN:VEVENT
DTSTART;TZID=UTC:20230801T080000
DTEND;TZID=UTC:20230801T090000
RRULE:FREQ=MONTHLY;BYMONTHDAY=1;INTERVAL=1;UNTIL=20241231T235900Z
UID:707BE030-C8A0-4901-BA73-A48B8D9BAF79
SUMMARY:Ask OSM Anything (First Call)
CREATED:20230718T060104Z
DTSTAMP:20230718T060104Z
URL:https://
DESCRIPTION:Come chat with at least one OSM board member for (insert beverage of choice) and ask us anything or just hang out. Join Mattermost for the link. We're looking forward to meeting you!
X-ALT-DESC;FMTTYPE=text/html:<p>Come chat with at least one OSM board member for (insert beverage of choice) and ask us anything or just hang out. Join Mattermost for the link. We're looking forward to meeting you!</p>
LAST-MODIFIED:20230725T124628Z
SEQUENCE:629124
X-ACCESS:1
X-HITS:1
X-COLOR:3366cc
X-IMAGE-FULL:https://community.joomla.org/images/event-resources/ask-osm-anything.jpg
X-IMAGE-FULL-ALT:Ask OSM Anything
X-IMAGE-INTRO:https://community.joomla.org/images/event-resources/ask-osm-anything.jpg
X-IMAGE-INTRO-ALT:Ask OSM Anything
X-SHOW-END-TIME:0
END:VEVENT
BEGIN:VEVENT
DTSTART;TZID=UTC:20230801T170000
DTEND;TZID=UTC:20230801T180000
RRULE:FREQ=MONTHLY;BYMONTHDAY=1;INTERVAL=1;UNTIL=20241201T235900Z
UID:ADC03A73-21B7-481D-8B1A-26F1D1681918
SUMMARY:Ask OSM Anything (Second Call)
CREATED:20230725T064900Z
DTSTAMP:20230725T064900Z
URL:https://
DESCRIPTION:Come chat with at least one OSM board member for (insert beverage of choice) and ask us anything or just hang out. Join Mattermost for the link. We're looking forward to meeting you!
X-ALT-DESC;FMTTYPE=text/html:<p>Come chat with at least one OSM board member for (insert beverage of choice) and ask us anything or just hang out. Join Mattermost for the link. We're looking forward to meeting you!</p>
LAST-MODIFIED:20230725T124406Z
SEQUENCE:21306
X-ACCESS:1
X-HITS:4
X-COLOR:3366cc
X-IMAGE-FULL:https://community.joomla.org/images/event-resources/ask-osm-anything.jpg
X-IMAGE-FULL-ALT:Ask OSM Anything
X-IMAGE-INTRO:https://community.joomla.org/images/event-resources/ask-osm-anything.jpg
X-IMAGE-INTRO-ALT:Ask OSM Anything
X-SHOW-END-TIME:0
END:VEVENT
BEGIN:VEVENT
DTSTART;TZID=UTC:20230802T130000
DTEND;TZID=UTC:20230802T140000
UID:EB3B04E9-223A-4BAB-A4FA-895AF002C2E1
SUMMARY:Cyber Resilience Act's Impact on Open Source CMS
CREATED:20230728T073804Z
DTSTAMP:20230728T073804Z
URL:https://
DESCRIPTION:A first-of-its-kind cross-community webinar for people concerned about the upcoming Cyber Resilience Act. Join us to discuss the Act's potential impact on open source CMS projects and communities, what we are doing to address it, and what you can do to help.
X-ALT-DESC;FMTTYPE=text/html:<p>A first-of-its-kind cross-community webinar for people concerned about the upcoming Cyber Resilience Act. Join us to&nbsp;discuss the Act's potential impact on open source CMS projects and communities, what we are doing to address it, and what you can do to help.</p>
LAST-MODIFIED:20230729T094644Z
SEQUENCE:94120
X-ACCESS:1
X-HITS:407
X-COLOR:3366cc
X-IMAGE-FULL:https://community.joomla.org/images/Cyber_Resilience_Act_Impact_Webinar.png
X-IMAGE-INTRO:https://community.joomla.org/images/Cyber_Resilience_Act_Impact_Webinar.png
X-SHOW-END-TIME:0
END:VEVENT
BEGIN:VEVENT
DTSTART;TZID=UTC:20231214T180000
DTEND;TZID=UTC:20231214T190000
UID:DAED282F-EB58-4E84-BE51-52C219AE52C4
SUMMARY:OSM Semi-Annual Members Meeting - December 2023
CREATED:20231122T112500Z
DTSTAMP:20231122T112500Z
URL:https://community.joomla.org/blogs/leadership/invitation-to-the-osm-semi-annual-members-meeting-2023.html
DESCRIPTION:To all the Members of Open Source Matters, Inc.\NIt is with great pleasure that I invite you to attend the Semi-Annual Members Meeting of Open Source Matters, Inc. on Thursday, December 14, 2023.\NThere will be three sessions, to allow a greater degree of participation throughout the different timezones.\N\NQuestion collection session at 2:00 UTC\NQuestion collection session at 10:00 UTC\NRegular session at 18:00 UTC\N\NPlanned meeting time is 1 hour for each session.\NIf not done yet, you will be added by your Team Leader to the dedicated channel on Mattermost a few hours before the meeting.The Agenda of the Semi-Annual Meeting will be shared in the Mattermost channel prior to the meeting day as well as the instructions on how to attend the call.\NThe Semi-Annual Meeting will occur twice per year and is a time to review the status of the organisation with Community members.It is also the perfect opportunity to present plans for the near future and to have direct communication with the Board of Directors and Officers that you elected.This meeting is called pursuant Section 4.06(C) of the Bylaws of the Corporation.\NMembers of Open Source Matters (Class 1, 2 and 3) as of December 01, 2023 will be entitled to attend this meeting.\NPlease mark your calendar and ensure your presence, to make this an important day for the future Joomla and Open Source Matters Inc.
X-ALT-DESC;FMTTYPE=text/html:<p><em>To all the Members of Open Source Matters, Inc.</em></p><p>It is with great pleasure that I invite you to attend the&nbsp;<strong>Semi-Annual Members Meeting of Open Source Matters, Inc.</strong>&nbsp;on Thursday,<strong>&nbsp;December 14, 2023.</strong></p><p>There will be three sessions, to allow a greater degree of participation throughout the different timezones.</p><ul><li>Question collection session at&nbsp;<strong>2:00 UTC</strong></li><li>Question collection session at&nbsp;<strong>10:00 UTC</strong></li><li>Regular session at&nbsp;<strong>18:00 UTC</strong></li></ul><p dir="ltr">Planned meeting time is 1 hour for each session.</p><p>If not done yet, you will be added by your Team Leader to the dedicated channel on Mattermost a few hours before the meeting.<br>The Agenda of the Semi-Annual Meeting will be shared in the Mattermost channel prior to the meeting day as well as the instructions on how to attend the call.</p><p>The Semi-Annual Meeting will occur twice per year and is a time to review the status of the organisation with Community members.<br>It is also the perfect opportunity to present plans for the near future and to have direct communication with the Board of Directors and Officers that you elected.<br>This meeting is called pursuant Section 4.06(C) of the Bylaws of the Corporation.</p><p>Members of Open Source Matters (Class 1, 2 and 3) as of December 01, 2023 will be entitled to attend this meeting.</p><p>Please mark your calendar and ensure your presence, to make this an important day for the future Joomla and Open Source Matters Inc.</p>
LAST-MODIFIED:20231122T112951Z
SEQUENCE:291
X-ACCESS:1
X-HITS:626
X-COLOR:3366cc
X-IMAGE-FULL:https://community.joomla.org/images/osm-semiannual-meeting.jpg
X-IMAGE-FULL-ALT:OSM Semi Annual Meeting
X-IMAGE-INTRO:https://community.joomla.org/images/osm-semiannual-meeting.jpg
X-IMAGE-INTRO-ALT:OSM Semi Annual Meeting
X-SHOW-END-TIME:0
END:VEVENT
BEGIN:VEVENT
DTSTART;TZID=UTC:20240117T190000
DTEND;TZID=UTC:20240117T200000
UID:E5667333-B2E8-4E67-BBDF-AF4DFA89DA60
SUMMARY:Team Meeting Joomla Bugsquad
CREATED:20240110T084013Z
DTSTAMP:20240110T084013Z
URL:https://
DESCRIPTION:The Joomla Bugsquad team is having its next meeting on January 17th 7pm UTC to discuss fixing bugs and moving Joomla forward. Everyone is invited to attend the meeting and support this. You don't have to be a team member. (Although we might use this opportunity to recruite you and join us. ;-) ) The meeting will be held on Google Meet and a link to that meeting will be posted shortly before the meeting in the Bugsquad channel on Joomlas Mattermost.
X-ALT-DESC;FMTTYPE=text/html:<p>The Joomla Bugsquad team is having its next meeting on January 17th 7pm UTC to discuss fixing bugs and moving Joomla forward. Everyone is invited to attend the meeting and support this. You don't have to be a team member. (Although we might use this opportunity to recruite you and join us. ;-) ) The meeting will be held on Google Meet and a link to that meeting will be posted shortly before the meeting in the Bugsquad channel on Joomlas Mattermost.</p>
LAST-MODIFIED:20240112T142509Z
SEQUENCE:193496
X-ACCESS:1
X-HITS:426
X-COLOR:3366cc
X-SHOW-END-TIME:0
END:VEVENT
BEGIN:VEVENT
DTSTART;TZID=UTC:20240122T160000
DTEND;TZID=UTC:20240122T170000
UID:67FD237C-12C7-4BAC-81CF-7AAB02355607
SUMMARY:Joomla User Group Meeting - All Jug Organizers invited!
CREATED:20231213T174524Z
DTSTAMP:20231213T174524Z
URL:https://
DESCRIPTION:Learn ways to support your local Joomla User Group. We will give opportunities for groups to share with other groups how they start JUGs how they keep them going. Plus we will give you ideas on how we support JUGs!\NHost: Laura Gordon, Joomla User Group Team\NSpecial Guest: Crystal Dionysopoulos, Joomla President
X-ALT-DESC;FMTTYPE=text/html:<p><span style="color: #232333; font-family: 'Helvetica Neue', Helvetica, Arial, sans-serif; font-size: 14px; white-space-collapse: preserve;">Learn ways to support your local Joomla User Group. We will give opportunities for groups to share with other groups how they start JUGs how they keep them going. Plus we will give you ideas on how we support JUGs!</span></p><p>Host: Laura Gordon, Joomla User Group Team</p><p>Special Guest: Crystal&nbsp;Dionysopoulos, Joomla President</p>
LAST-MODIFIED:20240110T212609Z
SEQUENCE:2432445
X-ACCESS:1
X-HITS:816
X-COLOR:3366cc
X-IMAGE-FULL:https://community.joomla.org/images/JUG%20-%20Organizer%20Meeting%202024%20January.jpg
X-IMAGE-FULL-ALT:JUG Organizer Meeting
X-IMAGE-INTRO:https://community.joomla.org/images/JUG%20-%20Organizer%20Meeting%202024%20January.jpg
X-IMAGE-INTRO-ALT:JUG Organizer Meeting
X-SHOW-END-TIME:0
END:VEVENT
BEGIN:VEVENT
DTSTART;TZID=UTC:20240131T190000
DTEND;TZID=UTC:20240131T200000
UID:20C30338-8583-45E9-A869-F9E9B2613FEE
SUMMARY:Team Meeting Joomla Bugsquad
CREATED:20240110T084128Z
DTSTAMP:20240110T084128Z
URL:https://
DESCRIPTION:The Joomla Bugsquad team is having its next meeting on January 31st 7pm UTC to discuss fixing bugs and moving Joomla forward. Everyone is invited to attend the meeting and support this. You don't have to be a team member. (Although we might use this opportunity to recruite you and join us. ;-) ) The meeting will be held on Google Meet and a link to that meeting will be posted shortly before the meeting in the Bugsquad channel on Joomlas Mattermost.  
X-ALT-DESC;FMTTYPE=text/html:<p>The Joomla Bugsquad team is having its next meeting on January 31st 7pm UTC to discuss fixing bugs and moving Joomla forward. Everyone is invited to attend the meeting and support this. You don't have to be a team member. (Although we might use this opportunity to recruite you and join us. ;-) ) The meeting will be held on Google Meet and a link to that meeting will be posted shortly before the meeting in the Bugsquad channel on Joomlas Mattermost. &nbsp;</p>
LAST-MODIFIED:20240112T142553Z
SEQUENCE:193465
X-ACCESS:1
X-HITS:599
X-COLOR:3366cc
X-SHOW-END-TIME:0
END:VEVENT
BEGIN:VEVENT
DTSTART;TZID=UTC:20240515T150000
DTEND;TZID=UTC:20240515T160000
RRULE:FREQ=MONTHLY;BYMONTHDAY=15;INTERVAL=1;UNTIL=20240615T235900Z
UID:B418CB87-6140-4977-9612-2FC53829F138
SUMMARY:New to Joomla? Session
CREATED:20240415T185955Z
DTSTAMP:20240415T185955Z
URL:https://
DESCRIPTION:Everybody new to the community is welcome to join the "New to Joomla?" sessions on every 15th of the month April 15th at 15:00 UTC.\NSomebody from the community (at the moment Sigrid Gramlingenr) will host the session and we will start with a short presentation how to find your way in the community, channels, platforms, websites,...\NThen we will introduce ourselves and we will try to answer all your questions around the Joomla community.It will be a Google Meet and the link will be posted the same day in the Mattermost channel "New to Joomla".
X-ALT-DESC;FMTTYPE=text/html:Everybody new to the community is welcome to join the "New to Joomla?" sessions on every 15th of the month April 15th at 15:00 UTC.Somebody from the community (at the moment Sigrid Gramlingenr) will host the session and we will start with a short presentation how to find your way in the community, channels, platforms, websites,...Then we will introduce ourselves and we will try to answer all your questions around the Joomla community.It will be a Google Meet and the link will be posted the same day in the Mattermost channel "New to Joomla".
X-ACCESS:1
X-HITS:37
X-COLOR:3366cc
X-SHOW-END-TIME:0
END:VEVENT
BEGIN:VEVENT
DTSTART;TZID=UTC:20250215T150000
DTEND;TZID=UTC:20250215T160000
RRULE:FREQ=MONTHLY;BYMONTHDAY=15;INTERVAL=1;UNTIL=20251231T235900Z
EXDATE:20250415T150000Z,20250515T150000Z,20250615T150000Z,20250715T150000Z,20250815T150000Z,20250915T150000Z,20251015T150000Z
UID:E4213BF7-35D8-48A7-84A5-71D79FC3295D
SUMMARY:"New to the Joomla Community" Session
CREATED:20250129T173038Z
DTSTAMP:20250129T173038Z
URL:https://
DESCRIPTION:These sessions are held every 15th of a month online in Google Meet.\NJoin us also in our Mattermost community - "New to Joomla" Channel.The meeting link will be published there.\NThe "New to the Joomla Community" Sessions will always have the some format:\N\NShort welcome (about 2 mins)\NPresentation how the Joomla community works (about 15 mins)\NIntroduction round for everbody (about 5-10 mins for all)\NQuestions, discussions, exhange, networking (about 30 mins)\N\N 
X-ALT-DESC;FMTTYPE=text/html:<p>These sessions are held every 15th of a month online in Google Meet.</p><p>Join us also in our <a href="https://magazine.joomla.org/all-issues/november-2022/getting-the-most-out-of-mattermost" target="_blank" rel="nofollow noopener">Mattermost community</a> - "New to Joomla" Channel.<br />The meeting link will be published there.</p><p>The "New to the Joomla Community" Sessions will always have the some format:</p><ol><li>Short welcome (about 2 mins)</li><li>Presentation how the Joomla community works (about 15 mins)</li><li>Introduction round for everbody (about 5-10 mins for all)</li><li>Questions, discussions, exhange, networking (about 30 mins)</li></ol><p>&nbsp;</p>
LAST-MODIFIED:20250202T023758Z
SEQUENCE:292040
X-ACCESS:1
X-HITS:1
X-COLOR:3366cc
X-SHOW-END-TIME:1
END:VEVENT
BEGIN:VEVENT
DTSTART;TZID=UTC:20250915T150000
DTEND;TZID=UTC:20250915T160000
UID:E4213BF7-35D8-48A7-84A5-71D79FC3295D
RECURRENCE-ID:20250915T140000Z
SUMMARY:"New to the Joomla Community" Session
CREATED:20250129T173038Z
DTSTAMP:20250129T173038Z
URL:https://
DESCRIPTION:These sessions are held every 15th of a month online in Google Meet.\NJoin us also in our Mattermost community - "New to Joomla" Channel.The meeting link will be published there.\NThe "New to the Joomla Community" Sessions will always have the some format:\N\NShort welcome (about 2 mins)\NPresentation how the Joomla community works (about 15 mins)\NIntroduction round for everbody (about 5-10 mins for all)\NQuestions, discussions, exhange, networking (about 30 mins)\N\N 
X-ALT-DESC;FMTTYPE=text/html:<p>These sessions are held every 15th of a month online in Google Meet.</p><p>Join us also in our <a href="https://magazine.joomla.org/all-issues/november-2022/getting-the-most-out-of-mattermost" target="_blank" rel="nofollow noopener">Mattermost community</a> - "New to Joomla" Channel.<br />The meeting link will be published there.</p><p>The "New to the Joomla Community" Sessions will always have the some format:</p><ol><li>Short welcome (about 2 mins)</li><li>Presentation how the Joomla community works (about 15 mins)</li><li>Introduction round for everbody (about 5-10 mins for all)</li><li>Questions, discussions, exhange, networking (about 30 mins)</li></ol><p>&nbsp;</p>
LAST-MODIFIED:20250914T194429Z
SEQUENCE:19707231
X-ACCESS:1
X-HITS:1331
X-COLOR:3366cc
X-SHOW-END-TIME:1
END:VEVENT
BEGIN:VEVENT
DTSTART;TZID=UTC:20251015T150000
DTEND;TZID=UTC:20251015T160000
UID:E4213BF7-35D8-48A7-84A5-71D79FC3295D
RECURRENCE-ID:20251015T140000Z
SUMMARY:"New to the Joomla Community" Session
CREATED:20250129T173038Z
DTSTAMP:20250129T173038Z
URL:https://
DESCRIPTION:These sessions are held every 15th of a month online in Google Meet.\NJoin us also in our Mattermost community - "New to Joomla" Channel.The meeting link will be published there.\NThe "New to the Joomla Community" Sessions will always have the some format:\N\NShort welcome (about 2 mins)\NPresentation how the Joomla community works (about 15 mins)\NIntroduction round for everbody (about 5-10 mins for all)\NQuestions, discussions, exhange, networking (about 30 mins)\N\N 
X-ALT-DESC;FMTTYPE=text/html:<p>These sessions are held every 15th of a month online in Google Meet.</p><p>Join us also in our <a href="https://magazine.joomla.org/all-issues/november-2022/getting-the-most-out-of-mattermost" target="_blank" rel="nofollow noopener">Mattermost community</a> - "New to Joomla" Channel.<br />The meeting link will be published there.</p><p>The "New to the Joomla Community" Sessions will always have the some format:</p><ol><li>Short welcome (about 2 mins)</li><li>Presentation how the Joomla community works (about 15 mins)</li><li>Introduction round for everbody (about 5-10 mins for all)</li><li>Questions, discussions, exhange, networking (about 30 mins)</li></ol><p>&nbsp;</p>
LAST-MODIFIED:20250914T194506Z
SEQUENCE:19707268
X-ACCESS:1
X-HITS:974
X-COLOR:3366cc
X-SHOW-END-TIME:1
END:VEVENT
BEGIN:VEVENT
DTSTART;TZID=UTC:20250708T150000
DTEND;TZID=UTC:20250708T160000
UID:E130E10B-F3BF-4777-96D1-B5A81090DAB0
SUMMARY:JUG Leadership Meeting (For anyone that RUNS a JUG or wants to start a JUG)
CREATED:20250525T190651Z
DTSTAMP:20250525T190651Z
URL:https://
DESCRIPTION:Get together with fellow JUG Organizers.  Learn about what you can do to help your JUG groups.  Meet with the Joomla Volunteers to get more out of your JUG!\NAgenda:\N- Meet JUG team\N- Communication \N- How to start  JUG\N- JUG Resources\N-- logo\N-- domain\N- events\N- Topic Suggestions\N- Sample JUG Format\NSuggested JUG Events\N- Pizza  Bugs & Fun\N- 20th Anniversary - August 17 Event\NLet's talk about your JUGs
X-ALT-DESC;FMTTYPE=text/html:<p>Get together with fellow JUG Organizers.&nbsp; Learn about what you can do to help your JUG groups.&nbsp; Meet with the Joomla Volunteers to get more out of your JUG!</p><p>Agenda:</p><p>- Meet JUG team</p><p>- Communication&nbsp;</p><p>- How to start&nbsp; JUG</p><p>- JUG Resources</p><p>-- logo</p><p>-- domain</p><p>- events</p><p>- Topic Suggestions</p><p>- Sample JUG Format</p><p>Suggested JUG Events</p><p>- Pizza&nbsp; Bugs &amp; Fun</p><p>- 20th Anniversary - August 17 Event</p><p>Let's talk about your JUGs</p>
LAST-MODIFIED:20250525T191155Z
SEQUENCE:304
X-ACCESS:1
X-HITS:780
X-COLOR:3366cc
X-IMAGE-FULL:https://community.joomla.org/images/events-calendar/li_gordon/JUG_-_Organizer_Meeting_Summer_2025.jpg
X-IMAGE-FULL-ALT:Joomla User Group - Organizer Meeting
X-IMAGE-INTRO:https://community.joomla.org/images/events-calendar/li_gordon/JUG_-_Organizer_Meeting_summer_2025_-_square.jpg
X-IMAGE-INTRO-ALT:Joomla User Group - Organizer Meeting
X-SHOW-END-TIME:0
END:VEVENT
BEGIN:VEVENT
DTSTART;TZID=UTC:20260123T173000
DTEND;TZID=UTC:20260123T193000
UID:C307D25E-1CBC-4E33-BCA7-9DB1B250A29F
SUMMARY:Pizza Bugs & Fun Management Training
CREATED:20260114T143342Z
DTSTAMP:20260114T143342Z
URL:https://
DESCRIPTION:What happens at a Joomla Pizza, Bugs & Fun event? 🍕🐞\NHave you heard of Pizza, Bugs & Fun but never participated, or would you like to understand better how it works?\NIn this online event, we will discover what really happens during a Joomla Pizza, Bugs & Fun event: how it works, who participates, what kind of activities are done, and why it is such an effective format for learning and contributing to the project.\NA meeting designed for:\N\Nthose approaching the Joomla community for the first time\Nmembers of Joomla User Groups contributors\Ncurious to participate in collaborative events\N\NNo previous experience is required: just a desire to understand, share and participate.\N👉 No pizza, only community spirit guaranteed. We look forward to seeing you there to find out how a Joomla Pizza, Bugs & Fun works!  \N----------------------------------------Italian--------------------------------\NCosa succede in un “Pizza, Bugs & Fun” Joomla? 🍕🐞\NHai sentito parlare dei Pizza, Bugs & Fun ma non hai mai partecipato, oppure vuoi capire meglio come funzionano?\NIn questo evento online scopriremo cosa succede davvero durante un Pizza, Bugs & Fun Joomla: come si svolge, chi partecipa, che tipo di attività si fanno e perché è un formato così efficace per imparare e contribuire al progetto.\NUn incontro pensato per\N\Nchi si avvicina per la prima volta alla community Joomla\Nmembri dei Joomla User Group - contributor\Ncuriosi di partecipare a eventi collaborativi\N\NNon è richiesta esperienza precedente: solo voglia di capire, condividere e partecipare.\N👉 Niente pizza, solo spirito di community garantito. Ti aspettiamo per scoprire come funziona un Pizza, Bugs & Fun Joomla!
X-ALT-DESC;FMTTYPE=text/html:<p>What happens at a Joomla Pizza, Bugs &amp; Fun event? 🍕🐞</p><p>Have you heard of Pizza, Bugs &amp; Fun but never participated, or would you like to understand better how it works?</p><p>In this online event, we will discover what really happens during a Joomla Pizza, Bugs &amp; Fun event: how it works, who participates, what kind of activities are done, and why it is such an effective format for learning and contributing to the project.</p><p>A meeting designed for:</p><ul><li>those approaching the Joomla community for the first time</li><li>members of Joomla User Groups&nbsp;contributors</li><li>curious to participate in collaborative events</li></ul><p>No previous experience is required: just a desire to understand, share and participate.</p><p>👉 No pizza, only community spirit guaranteed. We look forward to seeing you there to find out how a Joomla Pizza, Bugs &amp; Fun works! &nbsp;</p><p>----------------------------------------Italian--------------------------------</p><p>Cosa succede in un “Pizza, Bugs &amp; Fun” Joomla? 🍕🐞</p><p>Hai sentito parlare dei Pizza, Bugs &amp; Fun ma non hai mai partecipato, oppure vuoi capire meglio come funzionano?</p><p>In questo evento online scopriremo cosa succede davvero durante un Pizza, Bugs &amp; Fun Joomla: come si svolge, chi partecipa, che tipo di attività si fanno e perché è un formato così efficace per imparare e contribuire al progetto.</p><p>Un incontro pensato per</p><ul><li>chi si avvicina per la prima volta alla community Joomla</li><li>membri dei Joomla User Group - contributor</li><li>curiosi di partecipare a eventi collaborativi</li></ul><p>Non è richiesta esperienza precedente: solo voglia di capire, condividere e partecipare.</p><p>👉 Niente pizza, solo spirito di community garantito. Ti aspettiamo per scoprire come funziona un Pizza, Bugs &amp; Fun Joomla!</p>
LAST-MODIFIED:20260116T231121Z
SEQUENCE:203859
LOCATION:Virtual
GEO:41.90278200;12.49636600
X-LOCATION-DISPLAYNAME:Joomla! User Group Italia
X-ACCESS:1
X-HITS:501
X-COLOR:3366cc
X-IMAGE-FULL:https://community.joomla.org/images/events-calendar/gioacchino/trainingPBF.jpg
X-IMAGE-FULL-ALT:Are you a beginner and don't know how a PBF works? Image created with AI
X-IMAGE-INTRO:https://community.joomla.org/images/events-calendar/gioacchino/trainingPBFIntro.jpg
X-IMAGE-INTRO-ALT:Are you a beginner and don't know how a PBF works? Image created with AI
X-SHOW-END-TIME:0
END:VEVENT
END:VCALENDAR